BEGIN:VCALENDAR
VERSION:2.0
PRODID:-//Underwater Glider User Group (UG2) - ECPv6.15.20//NONSGML v1.0//EN
CALSCALE:GREGORIAN
METHOD:PUBLISH
X-WR-CALNAME:Underwater Glider User Group (UG2)
X-ORIGINAL-URL:https://underwatergliders.org
X-WR-CALDESC:Events for Underwater Glider User Group (UG2)
REFRESH-INTERVAL;VALUE=DURATION:PT1H
X-Robots-Tag:noindex
X-PUBLISHED-TTL:PT1H
BEGIN:VTIMEZONE
TZID:America/New_York
BEGIN:DAYLIGHT
TZOFFSETFROM:-0500
TZOFFSETTO:-0400
TZNAME:EDT
DTSTART:20210314T070000
END:DAYLIGHT
BEGIN:STANDARD
TZOFFSETFROM:-0400
TZOFFSETTO:-0500
TZNAME:EST
DTSTART:20211107T060000
END:STANDARD
BEGIN:DAYLIGHT
TZOFFSETFROM:-0500
TZOFFSETTO:-0400
TZNAME:EDT
DTSTART:20220313T070000
END:DAYLIGHT
BEGIN:STANDARD
TZOFFSETFROM:-0400
TZOFFSETTO:-0500
TZNAME:EST
DTSTART:20221106T060000
END:STANDARD
BEGIN:DAYLIGHT
TZOFFSETFROM:-0500
TZOFFSETTO:-0400
TZNAME:EDT
DTSTART:20230312T070000
END:DAYLIGHT
BEGIN:STANDARD
TZOFFSETFROM:-0400
TZOFFSETTO:-0500
TZNAME:EST
DTSTART:20231105T060000
END:STANDARD
BEGIN:DAYLIGHT
TZOFFSETFROM:-0500
TZOFFSETTO:-0400
TZNAME:EDT
DTSTART:20240310T070000
END:DAYLIGHT
BEGIN:STANDARD
TZOFFSETFROM:-0400
TZOFFSETTO:-0500
TZNAME:EST
DTSTART:20241103T060000
END:STANDARD
END:VTIMEZONE
BEGIN:VTIMEZONE
TZID:America/Denver
BEGIN:DAYLIGHT
TZOFFSETFROM:-0700
TZOFFSETTO:-0600
TZNAME:MDT
DTSTART:20210314T090000
END:DAYLIGHT
BEGIN:STANDARD
TZOFFSETFROM:-0600
TZOFFSETTO:-0700
TZNAME:MST
DTSTART:20211107T080000
END:STANDARD
BEGIN:DAYLIGHT
TZOFFSETFROM:-0700
TZOFFSETTO:-0600
TZNAME:MDT
DTSTART:20220313T090000
END:DAYLIGHT
BEGIN:STANDARD
TZOFFSETFROM:-0600
TZOFFSETTO:-0700
TZNAME:MST
DTSTART:20221106T080000
END:STANDARD
BEGIN:DAYLIGHT
TZOFFSETFROM:-0700
TZOFFSETTO:-0600
TZNAME:MDT
DTSTART:20230312T090000
END:DAYLIGHT
BEGIN:STANDARD
TZOFFSETFROM:-0600
TZOFFSETTO:-0700
TZNAME:MST
DTSTART:20231105T080000
END:STANDARD
END:VTIMEZONE
BEGIN:VEVENT
DTSTART;TZID=America/New_York:20230623T140000
DTEND;TZID=America/New_York:20230623T140000
DTSTAMP:20260421T195946
CREATED:20240513T180916Z
LAST-MODIFIED:20240513T181026Z
UID:2421-1687528800-1687528800@underwatergliders.org
SUMMARY:Technical Sessions Webinar
DESCRIPTION:Presentations: Consortium of Great Lakes Gliders: hypoxia\, turnover and primary production: Marguerite A. Xenopoulos\, Canada Research Chair in Global Change of Freshwater Ecosystems\, Trent University OceanGNS: platform for glider mission planning + coordination: Nicolai von Oppeln-Bronikowski\, OceanGNS Inc.\, St. John’s\, Canada \n  \nWatch recording now!
URL:https://underwatergliders.org/event/technical-sessions-webinar/
CATEGORIES:Webinars
ATTACH;FMTTYPE=image/png:https://underwatergliders.org/wp-content/uploads/2020/08/cropped-UG2_Option1-4.png
END:VEVENT
BEGIN:VEVENT
DTSTART;TZID=America/New_York:20230601T140000
DTEND;TZID=America/New_York:20230601T153000
DTSTAMP:20260421T195946
CREATED:20240510T201735Z
LAST-MODIFIED:20240510T201735Z
UID:2407-1685628000-1685633400@underwatergliders.org
SUMMARY:Passive Acoustics (Part 1)
DESCRIPTION:Part 1 of the Passive Acoustics webinar \n  \n\nPassive Acoustics Panel:\n\nPassive Acoustic Receiving on Gliders: Advantages and Challenges\n\nDr. Lora Van Uffelen\, Assistant Professor\, Ocean Engineering\, University of Rhode Island\n\n\nGlider-based real time monitoring for North Atlantic Right Whales\n\nDr. Clark Richards\, PhD\, Research Scientist\, Fisheries and Oceans Canada\, Bedford Institute of Oceanography\, Halifax NS\, Adjunct professor\, Department of Oceanography\, Dalhousie University\, Halifax\, Nova Scotia\n\n\nApproaches for marine mammal passive acoustic monitoring using Seagliders\n\nDr. Selene Fregosi\, Ocean Associates\, Inc.\, in contract to NOAA Pacific Islands Fisheries Science Center\n\n\n\n\n\n  \nWatch the recording now!
URL:https://underwatergliders.org/event/passive-acoustics-part-1/
CATEGORIES:Webinars
ATTACH;FMTTYPE=image/png:https://underwatergliders.org/wp-content/uploads/2020/08/cropped-UG2_Option1-4.png
END:VEVENT
BEGIN:VEVENT
DTSTART;TZID=America/New_York:20230330T140000
DTEND;TZID=America/New_York:20230330T153000
DTSTAMP:20260421T195946
CREATED:20240510T201948Z
LAST-MODIFIED:20240510T201948Z
UID:2409-1680184800-1680190200@underwatergliders.org
SUMMARY:What's in my Garage? (Part 1)
DESCRIPTION:What’s in my Garage (cont’d) Panel:\n\nJames Pegg\, Marine Technician\, Ocean Gliders Canada\, Canadian-Pacific Robotic Ocean Observing Facility (C-PROOF)\nStuart Pearce\, Endurance Array Glider Lead\, Ocean Observatories Initiative\, Oregon State University\nDaniel R. Hayes\, Managing Director\, Cyprus Subsea Consulting and Services C.S.C.S. Limited\n\n\nMission File Creation via Slocum Fleet Mission Control (SFMC) Panel: \n\nBen Allsup\, Glider Engineer\, National Oceanographic Centre (NOC)\, Southampton\, England\nCordie Goodrich\, Applications Engineer\, Teledyne Webb Support Team\n\n\n\n  \nWatch the recording now!
URL:https://underwatergliders.org/event/whats-in-my-garage-part-1/
CATEGORIES:Webinars
ATTACH;FMTTYPE=image/png:https://underwatergliders.org/wp-content/uploads/2020/08/cropped-UG2_Option1-4.png
END:VEVENT
BEGIN:VEVENT
DTSTART;TZID=America/New_York:20230126T140000
DTEND;TZID=America/New_York:20230126T153000
DTSTAMP:20260421T195946
CREATED:20240510T202217Z
LAST-MODIFIED:20240510T202217Z
UID:2411-1674741600-1674747000@underwatergliders.org
SUMMARY:What's and what's not in my Garage? (Part 1)
DESCRIPTION:This webinar featured five members of the community who discussed their geographically varying labs and operations. \n  \nWatch the recording now!
URL:https://underwatergliders.org/event/whats-and-whats-not-in-my-garage-part-1/
CATEGORIES:Webinars
ATTACH;FMTTYPE=image/png:https://underwatergliders.org/wp-content/uploads/2020/08/cropped-UG2_Option1-4.png
END:VEVENT
BEGIN:VEVENT
DTSTART;TZID=America/Denver:20220421T140000
DTEND;TZID=America/Denver:20220421T153000
DTSTAMP:20260421T195946
CREATED:20240517T181603Z
LAST-MODIFIED:20240517T181603Z
UID:2447-1650549600-1650555000@underwatergliders.org
SUMMARY:UG2 Alaska and West Coast (Monterey Bay) Glider Operations
DESCRIPTION:Speakers: \n\nA Brief Introduction to the University of Alaska Fairbanks Glider Center: Hank Statscewich\, University of Alaska Fairbanks\nStudying the carbon cycle using pH sensors on Spray underwater gliders: Yui Takeshita\, MBARI\n\nWatch recording here!
URL:https://underwatergliders.org/event/ug2-alaska-and-west-coast-monterey-bay-glider-operations/
CATEGORIES:Webinars
ATTACH;FMTTYPE=image/png:https://underwatergliders.org/wp-content/uploads/2020/08/cropped-cropped-UG2_Option1.png
END:VEVENT
BEGIN:VEVENT
DTSTART;TZID=America/New_York:20220217T140000
DTEND;TZID=America/New_York:20220217T153000
DTSTAMP:20260421T195946
CREATED:20240517T180652Z
LAST-MODIFIED:20240517T180848Z
UID:2441-1645106400-1645111800@underwatergliders.org
SUMMARY:2021 Hurricane Season
DESCRIPTION:Speakers:\nOverview: Kathy Bailey\, NOAA\nGOMEX Ops: Kerri Whilden\, Texas A&M\nSECOORA Ops: Catherine Edwards\, UGA\, Skidaway Institute of Oceanography\nMARACOOS Ops: Mike Crowley\, Rutgers\nCARICOOS Ops: Julio Morell\, CARICOOS and Gustavo Goni\, AMOL\nGlider Data Analysis and Modeling Impacts: Scott Glenn and Travis Miles\, Rutgers \nWatch recording here!
URL:https://underwatergliders.org/event/ug2-webinar-7-2021-hurricane-season/
CATEGORIES:Webinars
ATTACH;FMTTYPE=image/png:https://underwatergliders.org/wp-content/uploads/2024/05/Screen-Shot-2024-05-17-at-11.05.22-AM-2.png
END:VEVENT
END:VCALENDAR