BEGIN:VCALENDAR
VERSION:2.0
PRODID:-//Underwater Glider User Group (UG2) - ECPv6.15.20//NONSGML v1.0//EN
CALSCALE:GREGORIAN
METHOD:PUBLISH
X-WR-CALNAME:Underwater Glider User Group (UG2)
X-ORIGINAL-URL:https://underwatergliders.org
X-WR-CALDESC:Events for Underwater Glider User Group (UG2)
REFRESH-INTERVAL;VALUE=DURATION:PT1H
X-Robots-Tag:noindex
X-PUBLISHED-TTL:PT1H
BEGIN:VTIMEZONE
TZID:America/New_York
BEGIN:DAYLIGHT
TZOFFSETFROM:-0500
TZOFFSETTO:-0400
TZNAME:EDT
DTSTART:20250309T070000
END:DAYLIGHT
BEGIN:STANDARD
TZOFFSETFROM:-0400
TZOFFSETTO:-0500
TZNAME:EST
DTSTART:20251102T060000
END:STANDARD
BEGIN:DAYLIGHT
TZOFFSETFROM:-0500
TZOFFSETTO:-0400
TZNAME:EDT
DTSTART:20260308T070000
END:DAYLIGHT
BEGIN:STANDARD
TZOFFSETFROM:-0400
TZOFFSETTO:-0500
TZNAME:EST
DTSTART:20261101T060000
END:STANDARD
BEGIN:DAYLIGHT
TZOFFSETFROM:-0500
TZOFFSETTO:-0400
TZNAME:EDT
DTSTART:20270314T070000
END:DAYLIGHT
BEGIN:STANDARD
TZOFFSETFROM:-0400
TZOFFSETTO:-0500
TZNAME:EST
DTSTART:20271107T060000
END:STANDARD
END:VTIMEZONE
BEGIN:VEVENT
DTSTART;TZID=America/New_York:20260212T090000
DTEND;TZID=America/New_York:20260212T103000
DTSTAMP:20260424T145318
CREATED:20260106T180946Z
LAST-MODIFIED:20260106T181014Z
UID:2853-1770886800-1770892200@underwatergliders.org
SUMMARY:US Hurricane Season Report - Webinar
DESCRIPTION:Join us for an exciting report out of the 2025 US hurricane season! \n  \nWe have three great speakers lined up: \nEmily Landeen – NOAA Affiliate \nScott Glenn – Rutgers University \nMatthieu Le Henaff – NOAA Affiliate \n  \nJOIN VIA ZOOM
URL:https://underwatergliders.org/event/us-hurricane-season-report-webinar/
CATEGORIES:Webinars
END:VEVENT
END:VCALENDAR