BEGIN:VCALENDAR
VERSION:2.0
PRODID:-//Underwater Glider User Group (UG2) - ECPv6.15.20//NONSGML v1.0//EN
CALSCALE:GREGORIAN
METHOD:PUBLISH
X-WR-CALNAME:Underwater Glider User Group (UG2)
X-ORIGINAL-URL:https://underwatergliders.org
X-WR-CALDESC:Events for Underwater Glider User Group (UG2)
REFRESH-INTERVAL;VALUE=DURATION:PT1H
X-Robots-Tag:noindex
X-PUBLISHED-TTL:PT1H
BEGIN:VTIMEZONE
TZID:America/New_York
BEGIN:DAYLIGHT
TZOFFSETFROM:-0500
TZOFFSETTO:-0400
TZNAME:EDT
DTSTART:20240310T070000
END:DAYLIGHT
BEGIN:STANDARD
TZOFFSETFROM:-0400
TZOFFSETTO:-0500
TZNAME:EST
DTSTART:20241103T060000
END:STANDARD
BEGIN:DAYLIGHT
TZOFFSETFROM:-0500
TZOFFSETTO:-0400
TZNAME:EDT
DTSTART:20250309T070000
END:DAYLIGHT
BEGIN:STANDARD
TZOFFSETFROM:-0400
TZOFFSETTO:-0500
TZNAME:EST
DTSTART:20251102T060000
END:STANDARD
BEGIN:DAYLIGHT
TZOFFSETFROM:-0500
TZOFFSETTO:-0400
TZNAME:EDT
DTSTART:20260308T070000
END:DAYLIGHT
BEGIN:STANDARD
TZOFFSETFROM:-0400
TZOFFSETTO:-0500
TZNAME:EST
DTSTART:20261101T060000
END:STANDARD
END:VTIMEZONE
BEGIN:VEVENT
DTSTART;TZID=America/New_York:20250313T130000
DTEND;TZID=America/New_York:20250313T140000
DTSTAMP:20260425T113623
CREATED:20250228T195917Z
LAST-MODIFIED:20250228T195917Z
UID:2718-1741870800-1741874400@underwatergliders.org
SUMMARY:EGO/UG2 Webinar: Student run glider lab
DESCRIPTION:EGO are hosting an upcoming webinar on March 13 ( 5-6 PM UTC/1 – 2 PM ET). Please see details below:Join: https://us02web.zoom.us/j/85153697918?pwd=8yElabNtcuaPj98kVwLZuFk0Fy4ToP.1\nTitle: The University of Washington Student Seaglider Center: The design and impact of a student-run lab \nSummary: Established in 2022\, the University of Washington’s Student Seaglider Center (SSC) is a student-run lab where students manage and use a fleet of Seagliders to conduct student-directed oceanographic research. Students service\, test\, and ballast Seagliders\, plan dive missions\, pilot Seagliders\, and analyze data to address student-defined scientific objectives. Through this program\, students have worked with professional mentors to conduct research both locally and globally: studying circulation patterns in Puget Sound\, Washington State\, USA and effects of tropical instability waves in the Equatorial Pacific. By participating in the SSC\, students gain real-world experience conducting oceanographic research\, develop essential skills and experience for future careers\, and make meaningful contributions to the field of oceanography. We will share the outcomes of the design and implementation of this program to support both research and education. \nPresenters:\nSasha Seroy\, PhD – Assistant Teaching Professor & Ocean Technology Program Director\nSchool of Oceanography\, University of Washington \nLydia Kelley- Undergraduate Student School of Oceanography\, University of Washington \nVictoria DeJong – Undergraduate Student School of Oceanography\, University of Washington
URL:https://underwatergliders.org/event/ego-ug2-webinar-student-run-glider-lab/
CATEGORIES:Webinars
END:VEVENT
END:VCALENDAR