BEGIN:VCALENDAR
VERSION:2.0
PRODID:-//Underwater Glider User Group (UG2) - ECPv6.15.20//NONSGML v1.0//EN
CALSCALE:GREGORIAN
METHOD:PUBLISH
X-WR-CALNAME:Underwater Glider User Group (UG2)
X-ORIGINAL-URL:https://underwatergliders.org
X-WR-CALDESC:Events for Underwater Glider User Group (UG2)
REFRESH-INTERVAL;VALUE=DURATION:PT1H
X-Robots-Tag:noindex
X-PUBLISHED-TTL:PT1H
BEGIN:VTIMEZONE
TZID:America/Denver
BEGIN:DAYLIGHT
TZOFFSETFROM:-0700
TZOFFSETTO:-0600
TZNAME:MDT
DTSTART:20230312T090000
END:DAYLIGHT
BEGIN:STANDARD
TZOFFSETFROM:-0600
TZOFFSETTO:-0700
TZNAME:MST
DTSTART:20231105T080000
END:STANDARD
BEGIN:DAYLIGHT
TZOFFSETFROM:-0700
TZOFFSETTO:-0600
TZNAME:MDT
DTSTART:20240310T090000
END:DAYLIGHT
BEGIN:STANDARD
TZOFFSETFROM:-0600
TZOFFSETTO:-0700
TZNAME:MST
DTSTART:20241103T080000
END:STANDARD
BEGIN:DAYLIGHT
TZOFFSETFROM:-0700
TZOFFSETTO:-0600
TZNAME:MDT
DTSTART:20250309T090000
END:DAYLIGHT
BEGIN:STANDARD
TZOFFSETFROM:-0600
TZOFFSETTO:-0700
TZNAME:MST
DTSTART:20251102T080000
END:STANDARD
END:VTIMEZONE
BEGIN:VEVENT
DTSTART;TZID=America/Denver:20241107T140000
DTEND;TZID=America/Denver:20241107T153000
DTSTAMP:20260425T193820
CREATED:20241111T185437Z
LAST-MODIFIED:20241111T191630Z
UID:2621-1730988000-1730993400@underwatergliders.org
SUMMARY:UG2 Workshop 24 Highlights
DESCRIPTION:This webinar featured speakers from the UG2 Workshop 24\, and provided updates on UG2. \n\nUG2 Updates | Georgia Coward\, UG2 Coordinator\nUG2 Workshop 2024 Highlights:\n\nDr. Jay Austin\, University of Minnesota Duluth\nDr. Katherine Gallagher\, Stony Brook University\nHank Statscewich\, University of Alaska Fairbanks\nJames Reagan\, NOAA NCEI Ocean Science Branch\n\n\n\nView recording here.
URL:https://underwatergliders.org/event/ug2-workshop-24-highlights/
CATEGORIES:Webinars,Workshops
ATTACH;FMTTYPE=image/png:https://underwatergliders.org/wp-content/uploads/2024/11/Screenshot-2024-11-11-at-10.52.04 AM.png
END:VEVENT
END:VCALENDAR